BEGIN:VCALENDAR
VERSION:2.0
PRODID:https://www.musik-mit-akkordeon.ch
METHOD:PUBLISH
BEGIN:VEVENT
LOCATION:<span>Röm. kath. Pfarramt St. Mauritius,</span> <span>&nbsp;Regensdorf</span>
SUMMARY:Cindy Schwemmer, Akkordeon
DESCRIPTION:Jubilarenessen
CLASS:PUBLIC
DTSTART:20260422T150000
DTEND:20260422T170000
END:VEVENT
END:VCALENDAR